BEGIN:VCALENDAR
VERSION:2.0
PRODID:-//Plone.org//NONSGML plone.app.event//EN
X-WR-TIMEZONE:Europe/Brussels
BEGIN:VEVENT
SUMMARY:PhD thesis defense in biomedical and pharmaceutical sciences by El
 éonore HARDY
DTSTART;TZID=Europe/Brussels;VALUE=DATE-TIME:20260424T150000
DTEND;TZID=Europe/Brussels;VALUE=DATE-TIME:20260424T180000
DTSTAMP;VALUE=DATE-TIME:20260423T153648Z
UID:5ea4ef1de6a240f285242ff8e10cd5b9
CREATED;VALUE=DATE-TIME:20190617T132217Z
LAST-MODIFIED;VALUE=DATE-TIME:20260423T084400Z
LOCATION:UNamur\, PA02 auditorium
URL:https://www.narilis.be/events/phd-thesis-defense-in-biomedical-and-pha
 rmaceutical-sciences-eleonore-hardy
END:VEVENT
BEGIN:VTIMEZONE
TZID:Europe/Brussels
X-LIC-LOCATION:Europe/Brussels
BEGIN:DAYLIGHT
DTSTART;VALUE=DATE-TIME:20260329T030000
TZNAME:CEST
TZOFFSETFROM:+0100
TZOFFSETTO:+0200
END:DAYLIGHT
END:VTIMEZONE
END:VCALENDAR
